BEGIN:VCALENDAR
VERSION:2.0
PRODID:icalendar-ruby
CALSCALE:GREGORIAN
BEGIN:VEVENT
DTSTAMP:20260422T053733Z
UID:32f1f719-18ea-435b-a4e1-77bd1ebe54c6
DTSTART;VALUE=DATE:20240717
DESCRIPTION:Property ID# 577658\, Locatoin: EVES Auction Room: 247 Cameron 
 Road\, Tauranga (unless sold prior)	\, Time: 1:00PM
SUMMARY:Auction for 
END:VEVENT
END:VCALENDAR
