BEGIN:VCALENDAR
VERSION:2.0
PRODID:icalendar-ruby
CALSCALE:GREGORIAN
BEGIN:VEVENT
DTSTAMP:20260421T082201Z
UID:c7781ccc-56ac-4c88-84fa-c9c6d2c8a7a5
DTSTART;VALUE=DATE:20220526
DESCRIPTION:Property ID# 535492\, Time: 5:00PM
SUMMARY:Auction for 
END:VEVENT
END:VCALENDAR
