BEGIN:VCALENDAR
VERSION:2.0
PRODID:icalendar-ruby
CALSCALE:GREGORIAN
BEGIN:VEVENT
DTSTAMP:20260423T195527Z
UID:bb7b10ad-db14-4b64-8df0-b425e023b665
DTSTART;VALUE=DATE:20210225
DESCRIPTION:Property ID# 501466\, Locatoin: Harcourts Auction Rooms\, 1 Thi
 rd Avenue\, Tauranga\, Unless Sold Prior\, Time: 2:00PM
SUMMARY:Auction for 
END:VEVENT
END:VCALENDAR
