BEGIN:VCALENDAR
VERSION:2.0
PRODID:icalendar-ruby
CALSCALE:GREGORIAN
BEGIN:VEVENT
DTSTAMP:20260422T061134Z
UID:9e8b46f9-c3e7-4fb2-827c-dcdf42c05e26
DTSTART;VALUE=DATE:20201029
DESCRIPTION:Property ID# 492809\, Locatoin: at 1:30pm (will not be sold pri
 or) Harcourts Auction Rooms\, 1 Third Avenue\, Tauranga\, Time: 12:00PM
SUMMARY:Auction for 
END:VEVENT
END:VCALENDAR
