BEGIN:VCALENDAR
VERSION:2.0
PRODID:icalendar-ruby
CALSCALE:GREGORIAN
BEGIN:VEVENT
DTSTAMP:20260425T164016Z
UID:bbe39e52-2288-4035-972d-6f308e7c5e5a
DTSTART;VALUE=DATE:20200709
DESCRIPTION:Property ID# 483304\, Locatoin: Eves Auction Rooms 247 Cameron 
 Rd Tauranga\, Time: 1:00PM
SUMMARY:Auction for 
END:VEVENT
END:VCALENDAR
