BEGIN:VCALENDAR
VERSION:2.0
PRODID:icalendar-ruby
CALSCALE:GREGORIAN
BEGIN:VEVENT
DTSTAMP:20210120T194317Z
UID:975ed31a-7f90-4122-800b-a48289b866cc
DTSTART;VALUE=DATE:20210225
DESCRIPTION:Property ID# 499036\, Time: 12:00PM
SUMMARY:Auction for 2/85 Forkert Road
END:VEVENT
END:VCALENDAR
