BEGIN:VCALENDAR
VERSION:2.0
PRODID:icalendar-ruby
CALSCALE:GREGORIAN
BEGIN:VEVENT
DTSTAMP:20210120T194319Z
UID:b4e5c844-591a-4333-95ca-41b33a8b4041
DTSTART;VALUE=DATE:20210217
DESCRIPTION:Property ID# 498226\, Time: 4:00PM
SUMMARY:Auction for 69A McCoy Road
END:VEVENT
END:VCALENDAR
