BEGIN:VCALENDAR
VERSION:2.0
PRODID:icalendar-ruby
CALSCALE:GREGORIAN
BEGIN:VEVENT
DTSTAMP:20210120T194503Z
UID:2a9e90d4-138b-4ae9-a78a-3033029f0653
DTSTART;VALUE=DATE:20201217
DESCRIPTION:Property ID# 496073\, Locatoin: 96 Ulster Street\, Hamilton\, T
 ime: 11:00AM
SUMMARY:Auction for 
END:VEVENT
END:VCALENDAR
