BEGIN:VCALENDAR
VERSION:2.0
PRODID:icalendar-ruby
CALSCALE:GREGORIAN
BEGIN:VEVENT
DTSTAMP:20210120T193955Z
UID:ad1676dc-bd39-4cce-ac04-ee76bbca1e0e
DTSTART;VALUE=DATE:20201118
DESCRIPTION:Property ID# 492401\, Locatoin: 247 Cameron Road\, Tauranga\, T
 ime: 1:00PM
SUMMARY:Auction for 
END:VEVENT
END:VCALENDAR
