BEGIN:VCALENDAR
VERSION:2.0
PRODID:icalendar-ruby
CALSCALE:GREGORIAN
BEGIN:VEVENT
DTSTAMP:20210120T193957Z
UID:09f18f94-198f-42ee-936f-c9caec003d3d
DTSTART;VALUE=DATE:20200805
DESCRIPTION:Property ID# 484882\, Locatoin: 247 Cameron Road\, Tauranga\, T
 ime: 1:00PM
SUMMARY:Auction for 
END:VEVENT
END:VCALENDAR
