BEGIN:VCALENDAR
VERSION:2.0
PRODID:icalendar-ruby
CALSCALE:GREGORIAN
BEGIN:VEVENT
DTSTAMP:20210120T194507Z
UID:c2ef7270-d277-4d64-8534-652c402ebc87
DTSTART;VALUE=DATE:20200630
DESCRIPTION:Property ID# 480944\, Locatoin: 96 Ulster Street\, Hamilton\, T
 ime: 4:00PM
SUMMARY:Auction for 
END:VEVENT
END:VCALENDAR
