BEGIN:VCALENDAR
VERSION:2.0
PRODID:icalendar-ruby
CALSCALE:GREGORIAN
BEGIN:VEVENT
DTSTAMP:20210120T194012Z
UID:8e9e3a80-7fe2-4cd6-9f01-06f454b2d7dd
DTSTART;VALUE=DATE:20191030
DESCRIPTION:Property ID# 462837\, Locatoin: Bayleys Auction Rooms \, Time: 
 1:00PM
SUMMARY:Auction for 
END:VEVENT
END:VCALENDAR
