BEGIN:VCALENDAR
VERSION:2.0
PRODID:icalendar-ruby
CALSCALE:GREGORIAN
BEGIN:VEVENT
DTSTAMP:20181224T053254Z
UID:56539daf-ed14-4112-9695-bb4484211a28
DTSTART;VALUE=DATE:20181024
DESCRIPTION:Property ID# 432652\, Locatoin: Bayleys Auction Rooms 47 Camero
 n Road\, Time: 1pm
SUMMARY:Auction for 
END:VEVENT
END:VCALENDAR
