BEGIN:VCALENDAR
VERSION:2.0
PRODID:icalendar-ruby
CALSCALE:GREGORIAN
BEGIN:VEVENT
DTSTAMP:20181224T053252Z
UID:44f3a7ca-c052-4423-b106-df3fd1d6351a
DTSTART;VALUE=DATE:20180808
DESCRIPTION:Property ID# 427025\, Locatoin: Bayleys Auction Rooms 47 Camero
 n Road\, Time: 1pm
SUMMARY:Auction for 
END:VEVENT
END:VCALENDAR
