BEGIN:VCALENDAR
VERSION:2.0
PRODID:icalendar-ruby
CALSCALE:GREGORIAN
BEGIN:VEVENT
DTSTAMP:20181224T054058Z
UID:e6b7d7e2-75b7-4b25-96b2-a8ded8814c33
DTSTART;VALUE=DATE:20171109
DESCRIPTION:Property ID# 407108\, Locatoin: 247 Cameron Road\, Tauranga\, T
 ime: 1pm
SUMMARY:Auction for 
END:VEVENT
END:VCALENDAR
