BEGIN:VCALENDAR
VERSION:2.0
PRODID:icalendar-ruby
CALSCALE:GREGORIAN
BEGIN:VEVENT
DTSTAMP:20181224T054048Z
UID:bbda921a-331b-42d3-87b8-bb9d3f690fe8
DTSTART;VALUE=DATE:20170330
DESCRIPTION:Property ID# 391542\, Locatoin: 247 Cameron Road\, Tauranga\, T
 ime: 1pm
SUMMARY:Auction for 
END:VEVENT
END:VCALENDAR
