BEGIN:VCALENDAR
VERSION:2.0
PRODID:icalendar-ruby
CALSCALE:GREGORIAN
BEGIN:VEVENT
DTSTAMP:20181224T054046Z
UID:e603a74e-64a4-4f72-9f47-145cb1a9fd6e
DTSTART;VALUE=DATE:20161201
DESCRIPTION:Property ID# 382699\, Locatoin: Auction Rooms\, 247 Cameron Rd\
 , Tauranga\, Time: From 1pm (if not sold prior)
SUMMARY:Auction for 
END:VEVENT
END:VCALENDAR
