BEGIN:VCALENDAR
VERSION:2.0
PRODID:icalendar-ruby
CALSCALE:GREGORIAN
BEGIN:VEVENT
DTSTAMP:20181224T053158Z
UID:1ae4be70-9e93-4998-a066-d5f0ab3c47c6
DTSTART;VALUE=DATE:20160623
DESCRIPTION:Property ID# 370277\, Locatoin: 247 Cameron Road\, Tauranga\, T
 ime: 1pm
SUMMARY:Auction for 
END:VEVENT
END:VCALENDAR
