BEGIN:VCALENDAR
VERSION:2.0
PRODID:icalendar-ruby
CALSCALE:GREGORIAN
BEGIN:VEVENT
DTSTAMP:20181224T053154Z
UID:0a3dac0a-f655-40b5-8f85-3048f2a4b05b
DTSTART;VALUE=DATE:20160512
DESCRIPTION:Property ID# 367712\, Locatoin: 247 Cameron Road\, Tauranga\, T
 ime: 1pm
SUMMARY:Auction for 
END:VEVENT
END:VCALENDAR
