BEGIN:VCALENDAR
VERSION:2.0
PRODID:icalendar-ruby
CALSCALE:GREGORIAN
BEGIN:VEVENT
DTSTAMP:20181224T054100Z
UID:d63356a4-9b5b-4dc7-8f62-a905cd7ea916
DTSTART;VALUE=DATE:20151217
DESCRIPTION:Property ID# 357631\, Locatoin: Auction Rooms\, 247 Cameron Roa
 d\, Tauranga\, Time: 11 am
SUMMARY:Auction for 
END:VEVENT
END:VCALENDAR
