BEGIN:VCALENDAR
VERSION:2.0
PRODID:icalendar-ruby
CALSCALE:GREGORIAN
BEGIN:VEVENT
DTSTAMP:20181224T053248Z
UID:06944988-34cf-4fc0-91ba-91c470bf6678
DTSTART;VALUE=DATE:20151210
DESCRIPTION:Property ID# 356183\, Locatoin: Auction Rooms\, 247 Cameron Roa
 d\, Tauranga\, Time: 1 PM
SUMMARY:Auction for 
END:VEVENT
END:VCALENDAR
