BEGIN:VCALENDAR
VERSION:2.0
PRODID:icalendar-ruby
CALSCALE:GREGORIAN
BEGIN:VEVENT
DTSTAMP:20181224T053242Z
UID:4f4dd50f-47cd-4894-b091-95b75ebc2e91
DTSTART;VALUE=DATE:20151112
DESCRIPTION:Property ID# 352983\, Locatoin: Auction Rooms\, 247 Cameron Roa
 d\, Tauranga\, Time: 1 PM
SUMMARY:Auction for 
END:VEVENT
END:VCALENDAR
