BEGIN:VCALENDAR
VERSION:2.0
PRODID:icalendar-ruby
CALSCALE:GREGORIAN
BEGIN:VEVENT
DTSTAMP:20181224T053238Z
UID:654a8ba1-f15c-4cd7-8f05-e55441a397a4
DTSTART;VALUE=DATE:20151105
DESCRIPTION:Property ID# 352341\, Locatoin: Auction Rooms\, 247 Cameron Roa
 d\, Tauranga\, Time: 1 PM
SUMMARY:Auction for 
END:VEVENT
END:VCALENDAR
