BEGIN:VCALENDAR
VERSION:2.0
PRODID:icalendar-ruby
CALSCALE:GREGORIAN
BEGIN:VEVENT
DTSTAMP:20181224T053233Z
UID:9cc0f40f-2837-41d0-911e-6a79e5715e0c
DTSTART;VALUE=DATE:20151029
DESCRIPTION:Property ID# 351609\, Locatoin: 247 Cameron Road\, Tauranga EVE
 S Auction Rooms 1st Floor (ANZ Building).\, Time: 1pm
SUMMARY:Auction for 
END:VEVENT
END:VCALENDAR
