BEGIN:VCALENDAR
VERSION:2.0
PRODID:icalendar-ruby
CALSCALE:GREGORIAN
BEGIN:VEVENT
DTSTAMP:20181224T053219Z
UID:676c37fd-a78c-4005-94db-e12223060eb7
DTSTART;VALUE=DATE:20160709
DESCRIPTION:Property ID# 343903\, Locatoin: 247 Cameron Road\, Tauranga EVE
 S Auction Rooms 1st Floor (ANZ Building).\, Time: 3:00pm
SUMMARY:Auction for 
END:VEVENT
END:VCALENDAR
