BEGIN:VCALENDAR
VERSION:2.0
PRODID:icalendar-ruby
CALSCALE:GREGORIAN
BEGIN:VEVENT
DTSTAMP:20181224T053216Z
UID:f0fce85e-499e-4026-9a10-63fc9eed143f
DTSTART;VALUE=DATE:20150507
DESCRIPTION:Property ID# 339732\, Locatoin: 247 Cameron Road\, Tauranga EVE
 S Auction Rooms 1st Floor (ANZ Building).\, Time: 3:00pm
SUMMARY:Auction for 
END:VEVENT
END:VCALENDAR
