BEGIN:VCALENDAR
VERSION:2.0
PRODID:icalendar-ruby
CALSCALE:GREGORIAN
BEGIN:VEVENT
DTSTAMP:20181224T053212Z
UID:e89423d7-f2f1-4f8f-a081-e376cedf11e9
DTSTART;VALUE=DATE:20150409
DESCRIPTION:Property ID# 336627\, Locatoin: 247 Cameron Road\, Tauranga EVE
 S Auction Rooms 1st Floor (ANZ Building).\, Time: 3:00pm
SUMMARY:Auction for 
END:VEVENT
END:VCALENDAR
