BEGIN:VCALENDAR
VERSION:2.0
PRODID:icalendar-ruby
CALSCALE:GREGORIAN
BEGIN:VEVENT
DTSTAMP:20181224T054129Z
UID:7c4e12ee-b43c-42e9-8c51-69984cd257eb
DTSTART;VALUE=DATE:20140625
DESCRIPTION:Property ID# 317824\, Locatoin: Bayleys Tauranga\, Time: 1pm
SUMMARY:Auction for 
END:VEVENT
END:VCALENDAR
