BEGIN:VCALENDAR
VERSION:2.0
PRODID:icalendar-ruby
CALSCALE:GREGORIAN
BEGIN:VEVENT
DTSTAMP:20181224T053140Z
UID:197c5201-a8cb-4526-a6df-7a8a43686cd9
DTSTART;VALUE=DATE:20130321
DESCRIPTION:Property ID# 285563\, Locatoin: 247 Cameron Road\, Tauranga\, T
 ime: 3pm
SUMMARY:Auction for 
END:VEVENT
END:VCALENDAR
