BEGIN:VCALENDAR
VERSION:2.0
PRODID:icalendar-ruby
CALSCALE:GREGORIAN
BEGIN:VEVENT
DTSTAMP:20181224T054110Z
UID:66d20af7-5330-4414-b75f-1503a353e7ac
DTSTART;VALUE=DATE:20121205
DESCRIPTION:Property ID# 277813\, Locatoin: Auction Rooms\, 247 Cameron Roa
 d\, Tauranga\, Time: 1:00pm
SUMMARY:Auction for 
END:VEVENT
END:VCALENDAR
