BEGIN:VCALENDAR
VERSION:2.0
PRODID:icalendar-ruby
CALSCALE:GREGORIAN
BEGIN:VEVENT
DTSTAMP:20181224T053138Z
UID:180d6209-6c41-45fe-9c20-22ecb339f387
DTSTART;VALUE=DATE:20121030
DESCRIPTION:Property ID# 275420\, Locatoin: 247 Cameron Road\, Tauranga\, T
 ime: 1pm
SUMMARY:Auction for 
END:VEVENT
END:VCALENDAR
