BEGIN:VCALENDAR
VERSION:2.0
PRODID:icalendar-ruby
CALSCALE:GREGORIAN
BEGIN:VEVENT
DTSTAMP:20181224T053135Z
UID:521a2b98-5bce-46b4-87b2-97f4471887bf
DTSTART;VALUE=DATE:20130502
DESCRIPTION:Property ID# 275404\, Locatoin: 247 Cameron Road\, Tauranga\, T
 ime: 3pm
SUMMARY:Auction for 
END:VEVENT
END:VCALENDAR
