BEGIN:VCALENDAR
VERSION:2.0
PRODID:icalendar-ruby
CALSCALE:GREGORIAN
BEGIN:VEVENT
DTSTAMP:20181224T053125Z
UID:99241c79-4dcc-4c71-b538-421991278cd1
DTSTART;VALUE=DATE:20110201
DESCRIPTION:Property ID# 238917\, Locatoin: Eves\, Willow Street\, Tauranga
 \, Time: 1.00
SUMMARY:Auction for 
END:VEVENT
END:VCALENDAR
