BEGIN:VCALENDAR
VERSION:2.0
PRODID:icalendar-ruby
CALSCALE:GREGORIAN
BEGIN:VEVENT
DTSTAMP:20181224T054025Z
UID:c32c908b-7f53-4c77-b854-5c7020d81586
DTSTART;VALUE=DATE:20070815
DESCRIPTION:Property ID# 157496\, Locatoin: Eves Realty Auction Rooms\, Wil
 low St\, Tauranga\, Time: 1.00 pm
SUMMARY:Auction for 
END:VEVENT
END:VCALENDAR
