BEGIN:VCALENDAR
VERSION:2.0
PRODID:icalendar-ruby
CALSCALE:GREGORIAN
BEGIN:VEVENT
DTSTAMP:20181224T054020Z
UID:4858ca8c-6a09-4a59-b037-7416b623d411
DTSTART;VALUE=DATE:20070430
DESCRIPTION:Property ID# 154940\, Locatoin: Eves Willow Street Office\, Tau
 ranga\, Time: 4.00pm
SUMMARY:Auction for 
END:VEVENT
END:VCALENDAR
